BEGIN:VCALENDAR
VERSION:2.0
PRODID:-//wp-events-plugin.com//7.2.3.1//EN
BEGIN:VEVENT
UID:34@liebstoeckel.info
DTSTART;TZID=Europe/Berlin:20260420T140000
DTEND;TZID=Europe/Berlin:20261012T160000
DTSTAMP:20260317T152035Z
URL:https://liebstoeckel.info/events/aquarellmalen-in-der-natur-kreative-a
 uszeit-auf-dem-kraeuterhof/
SUMMARY:Aquarellmalen in der Natur – Kreative Auszeit auf dem Kräuterhof
DESCRIPTION:April bis Oktober: jeden Montag Nachmittag 14.00 Uhr\n\n„In m
 einen Naturführungen erlebe ich immer wieder\, wie intensiv Menschen Pfla
 nzen und Landschaft wahrnehmen\, wenn sie beginnen\, genauer hinzuschauen.
  Beim Malen mit Wasserfarben entsteht genau dieser Moment: Man entdeckt Fa
 rben\, Formen und Details der Natur auf eine ganz neue Weise.Ich teile in 
 diesem Workshop meine Freude daran\, Natur auch kreativ wahrzunehmen.“\n
 \nUnter einem alten Apfelbaum auf meinem Kräuterhof treffen wir uns zum g
 emeinsamen Malen mit Wasserfarben. Umgeben von Pflanzen\, Vogelstimmen und
  dem Wechselspiel von Licht und Schatten lassen wir uns von der Natur insp
 irieren und bringen unsere Eindrücke aufs Papier.\n\nAuf meinem kleinen K
 räuterhof in der Feldberger Seenlandschaft lade ich Einheimische und Gäs
 te herzlich zu einem besonderen Natur-Erlebnis ein:\nEin kreativer Mal-Wor
 kshop unter freiem Himmel – inspiriert von Pflanzen\, Licht\, Formen und
  Farben der Landschaft.\n\nDieser Workshop ist kein Kurs im klassischen Si
 nne\, sondern ein achtsames\, sinnliches Erlebnis.\nOhne Leistungsdruck. O
 hne Vorkenntnisse. Ohne „richtig“ oder „falsch“.\n\nOb Anfänger*i
 n oder erfahrener Maler – jede und jeder ist willkommen.\nIch gebe sanft
 e Impulse\, kleine Inspirationen aus der Natur\, unterstütze bei Technik 
 und Umsetzung und schaffe einen geschützten Raum\, in dem Kreativität ei
 nfach sein kann.\n\nWir beobachten Blätteradern\, spielen mit Grüntönen
 \, lassen Wasser und Farbe fließen – und entdecken dabei oft mehr als n
 ur ein Bild.\n\nWas erwartet Sie?                           
                                                  
                                                  
      2 Stunden kreatives Naturerlebnis Malen mit Wasserfarben unter frei
 em Himmel Inspiration aus Pflanzenwelt und Natur Individuelle Begleitung u
 nd Unterstützung Entspannte\, wertschätzende Atmosphäre Kleine Gruppe f
 ür intensives Erleben\n\nAlle Materialien werden gestellt.\n\nOrt: Kräut
 erhof in der Feldberger Seenlandschaft\nDauer: 2 Stunden\nPreis: 33 € pr
 o Person (mit Mindestteilnehmerzahl)\n\nEin besonderes Angebot für Urlaub
 sgäste\, Naturfreunde\, Freundinnen-Zeit\, kleine Auszeiten oder einfach 
 für Menschen\, die sich selbst wieder ein Stück näherkommen möchten. 
 \n\nEin Event für Herz\, Sinne und Kreativität.\n\n&nbsp\;\n\n&nbsp\;
CATEGORIES:Kreative Auszeit
LOCATION:Kräuterhof Liebstöckel Koldenhof\, Lindenallee\, 65\, Feldberger
  Seenlandschaft\, Mecklenburg Vorpommern\, 17258\, Feldberger Seenlandscha
 ft\, Deutschland
X-APPLE-STRUCTURED-LOCATION;VALUE=URI;X-ADDRESS=Lindenallee\, 65\, Feldberg
 er Seenlandschaft\, Mecklenburg Vorpommern\, 17258\, Feldberger Seenlandsc
 haft\, Deutschland;X-APPLE-RADIUS=100;X-TITLE=Kräuterhof Liebstöckel Kol
 denhof:geo:0,0
END:VEVENT
BEGIN:VTIMEZONE
TZID:Europe/Berlin
X-LIC-LOCATION:Europe/Berlin
BEGIN:DAYLIGHT
DTSTART:20260329T030000
TZOFFSETFROM:+0100
TZOFFSETTO:+0200
TZNAME:CEST
END:DAYLIGHT
END:VTIMEZONE
END:VCALENDAR