BEGIN:VCALENDAR
VERSION:2.0
PRODID:-//wp-events-plugin.com//7.2.3.1//EN
BEGIN:VEVENT
UID:1@liebstoeckel.info
DTSTART:20240509T080000Z
DTEND:20240509T100000Z
DTSTAMP:20240504T221143Z
URL:https://liebstoeckel.info/events/himmelfahrt/
SUMMARY:Kräuterwanderung zu HIMMELFAHRT
DESCRIPTION:10.00 – 12.00 Uhr Kräuterwanderung \n„Essbare Wildpflanzen
 “ in Koldenhof\nEs ist erstaunlich\, was es für essbare Schätze auf de
 r Wiese gibt. Die Wildpflanzen wurden früher für den täglichen Gemüseb
 edarf verwendet und gerieten leider in Vergessenheit. Sie enthalten wertvo
 lle Inhaltsstoffe\, die wir für unsere Gesundheit nutzen können. Währen
 d unseres Streifzuges durch die Wiese\, Uferbereiche und meinen Kräuterga
 rten lernen wir die einzelnen Pflanzen kennen in ihrer Blütenfarbe\, Blat
 tstruktur\, ihrem unverwechselbaren Geschmack und Duft. Wir sprechen über
  Verwechslungsmöglichkeiten\, Sammelhinweise\, Verwendung in Küche und H
 ausapotheke\, sowie die Verarbeitung und Lagerung der Kräuter. Jeder Teil
 nehmer erhält eine Kräuterliste.\n\nAnmeldung erforderlich bis 2 Tage vo
 rher!
ATTACH;FMTTYPE=image/jpeg:https://liebstoeckel.info/wp-content/uploads/202
 0/02/Waldsee-2.jpg
CATEGORIES:Kräuterwanderung
END:VEVENT
END:VCALENDAR