BEGIN:VCALENDAR
VERSION:2.0
PRODID:-//wp-events-plugin.com//7.2.3.1//EN
BEGIN:VEVENT
UID:30@liebstoeckel.info
DTSTART;TZID=Europe/Berlin:20260430T100000
DTEND;TZID=Europe/Berlin:20260924T130000
DTSTAMP:20260326T133751Z
URL:https://liebstoeckel.info/events/kraeuterworkshop-wilde-kraeuterkueche
 -am-feuer-2/
SUMMARY:Kräuterworkshop
DESCRIPTION:Wilde Outdoorküche- Kochen mit Wildpflanzen in der Gartenküch
 e                         \nJeden Donnerstag  (30.04.26 - 24
 .09.26)    10.00- 13.00 Uhr  (und auf Anfrage)  \n\n           
                                                  
                                                  
                                                  
                           Wildkräuter gibt es fast das ganze
  Jahr über und wir können sie für unsere gesunde Ernährung nutzen. Bei
  diesem Kochkurs im Garten und auf der Wiese werden wir verschiedene Wildk
 räuter sammeln\, bestimmen und zu feinen Kräuterspeisen verarbeiten. Ges
 tartet wird mit einer Kräuterführung\, auf der wir verschiedenste Kräut
 er der Saison pflücken. Dabei gibt es Verarbeitungs- und Sammelhinweise. 
 Die gesammelten Kräuter ergänzen wir in meinem Garten. Gemeinsam bereite
 n wir in der Gartenküche auf dem Gelände der Manufaktur leckere Wildkrä
 utergerichte auf dem Feuer und der alten Küchenhexe zu. Es gibt zum Beisp
 iel Wildkräutersalat\, Brennesselfrikadellen\, Wildkräutenocken mit Salb
 eibutter\, Brennnessel-Kartoffelsuppe\, Tomaten- Liebstöckelsalsa\, und K
 räutergetränke.  Anschließend genießen wir das wilde Kräutermenü ge
 meinsam im Garten in großer Runde.                          
                                                  
                                                  
                      Preis inkl Speisen\, Getränken und Rezepe
 n: 38\,-€ p.P. \n\n&nbsp\;\n\n   \n\n[caption id="attachment_2159" ali
 gn="alignleft" width="300"] dav[/caption]\n\n \n\n&nbsp\;
ATTACH;FMTTYPE=image/jpeg:https://liebstoeckel.info/wp-content/uploads/202
 6/01/Kraeuterworkshop@Britta_Daedelow-Seydl-scaled-e1773679651497.jpg
CATEGORIES:Kräuterwanderung,Lagerfeuerküche,Workshop
LOCATION:Kräuterhof Liebstöckel Koldenhof\, Lindenallee\, 65\, Feldberger
  Seenlandschaft\, Mecklenburg Vorpommern\, 17258\, Feldberger Seenlandscha
 ft\, Deutschland
X-APPLE-STRUCTURED-LOCATION;VALUE=URI;X-ADDRESS=Lindenallee\, 65\, Feldberg
 er Seenlandschaft\, Mecklenburg Vorpommern\, 17258\, Feldberger Seenlandsc
 haft\, Deutschland;X-APPLE-RADIUS=100;X-TITLE=Kräuterhof Liebstöckel Kol
 denhof:geo:0,0
END:VEVENT
BEGIN:VTIMEZONE
TZID:Europe/Berlin
X-LIC-LOCATION:Europe/Berlin
BEGIN:DAYLIGHT
DTSTART:20260329T030000
TZOFFSETFROM:+0100
TZOFFSETTO:+0200
TZNAME:CEST
END:DAYLIGHT
END:VTIMEZONE
END:VCALENDAR